BEGIN:VCALENDAR
VERSION:2.0
PRODID:-//Fat Cat Fundraisers - ECPv6.15.20//NONSGML v1.0//EN
CALSCALE:GREGORIAN
METHOD:PUBLISH
X-WR-CALNAME:Fat Cat Fundraisers
X-ORIGINAL-URL:https://fatcatfundraisers.com
X-WR-CALDESC:Events for Fat Cat Fundraisers
REFRESH-INTERVAL;VALUE=DURATION:PT1H
X-Robots-Tag:noindex
X-PUBLISHED-TTL:PT1H
BEGIN:VTIMEZONE
TZID:America/New_York
BEGIN:DAYLIGHT
TZOFFSETFROM:-0500
TZOFFSETTO:-0400
TZNAME:EDT
DTSTART:20220313T070000
END:DAYLIGHT
BEGIN:STANDARD
TZOFFSETFROM:-0400
TZOFFSETTO:-0500
TZNAME:EST
DTSTART:20221106T060000
END:STANDARD
BEGIN:DAYLIGHT
TZOFFSETFROM:-0500
TZOFFSETTO:-0400
TZNAME:EDT
DTSTART:20230312T070000
END:DAYLIGHT
BEGIN:STANDARD
TZOFFSETFROM:-0400
TZOFFSETTO:-0500
TZNAME:EST
DTSTART:20231105T060000
END:STANDARD
BEGIN:DAYLIGHT
TZOFFSETFROM:-0500
TZOFFSETTO:-0400
TZNAME:EDT
DTSTART:20240310T070000
END:DAYLIGHT
BEGIN:STANDARD
TZOFFSETFROM:-0400
TZOFFSETTO:-0500
TZNAME:EST
DTSTART:20241103T060000
END:STANDARD
END:VTIMEZONE
BEGIN:VTIMEZONE
TZID:UTC
BEGIN:STANDARD
TZOFFSETFROM:+0000
TZOFFSETTO:+0000
TZNAME:UTC
DTSTART:20210101T000000
END:STANDARD
END:VTIMEZONE
BEGIN:VEVENT
DTSTART;TZID=America/New_York:20230325T110000
DTEND;TZID=America/New_York:20230325T150000
DTSTAMP:20260424T060801
CREATED:20230225T155321Z
LAST-MODIFIED:20230225T162120Z
UID:116-1679742000-1679756400@fatcatfundraisers.com
SUMMARY:New Ken Restaurant Ramble
DESCRIPTION:Fat Cat Fundraising will be offering our Italian or Turkey and Cheese Fundraiser Sub with our Wedding Soup and a Lime Aid or Sweet Tea
URL:https://fatcatfundraisers.com/event/new-ken-restaurant-ramble/
LOCATION:Fat Cat Fundraisers\, 832 Fifth Ave\, New Kensington\, PA\, 15068\, United States
CATEGORIES:Orange Tent Events
END:VEVENT
BEGIN:VEVENT
DTSTART;TZID=America/New_York:20230323T080000
DTEND;TZID=America/New_York:20230323T150000
DTSTAMP:20260424T060801
CREATED:20230225T180204Z
LAST-MODIFIED:20230225T180332Z
UID:147-1679558400-1679583600@fatcatfundraisers.com
SUMMARY:Valley High Travel Club
DESCRIPTION:VHS is sponsoring a fundraiser for their Travel Club Pre Order at fatcat@fatcatfundraisers.com or call 724-448-3399 Walk in pick up also available at Fat Cat Fundraisers 832 Fifth Avenue New Kensington\, PA 15068
URL:https://fatcatfundraisers.com/event/valley-high-travel-club/
LOCATION:Fat Cat Fundraisers\, 832 Fifth Ave\, New Kensington\, PA\, 15068\, United States
CATEGORIES:Upcoming Fundraisers
END:VEVENT
BEGIN:VEVENT
DTSTART;TZID=America/New_York:20230322T080000
DTEND;TZID=America/New_York:20230322T140000
DTSTAMP:20260424T060801
CREATED:20230225T174543Z
LAST-MODIFIED:20230307T092802Z
UID:142-1679472000-1679493600@fatcatfundraisers.com
SUMMARY:Saint Joes Prom
DESCRIPTION:Saint Joes High School is sponsoring a fundraiser for their Prom \nPre Order at fatcat@fatcatfundraisers.com or 724-448-3399  Walk in pick up also available at 832 Fifth Avenue New Kensington\, PA 15068
URL:https://fatcatfundraisers.com/event/saint-joes-prom/
LOCATION:Fat Cat Fundraisers\, 832 Fifth Ave\, New Kensington\, PA\, 15068\, United States
CATEGORIES:Upcoming Fundraisers
END:VEVENT
BEGIN:VEVENT
DTSTART;TZID=America/New_York:20230321T080000
DTEND;TZID=America/New_York:20230321T150000
DTSTAMP:20260424T060801
CREATED:20230309T165036Z
LAST-MODIFIED:20230309T165852Z
UID:275-1679385600-1679410800@fatcatfundraisers.com
SUMMARY:Springdale Sportsman Club
DESCRIPTION:Springdale Sportsman is sponsoring a fundraiser for their  events committee Orders can be placed at fatcat@fatcatfundraisers.com or 724-448-3399  Walk in pick up also available at 832 Fifth Avenue New Kensington\, PA 15068
URL:https://fatcatfundraisers.com/event/springdale-sportsman-club/
LOCATION:PA
CATEGORIES:Upcoming Fundraisers
END:VEVENT
BEGIN:VEVENT
DTSTART;TZID=America/New_York:20230321T080000
DTEND;TZID=America/New_York:20230321T120000
DTSTAMP:20260424T060801
CREATED:20230309T165312Z
LAST-MODIFIED:20230309T165701Z
UID:277-1679385600-1679400000@fatcatfundraisers.com
SUMMARY:E.K.C.C. Fundraiser
DESCRIPTION:East Kensington Community Circle is sponsoring a fundraiser for their building fund. Orders can be placed at fatcat@fatcatfundraisers.com or 724-448-3399  Walk in pick up also available at 832 Fifth Avenue New Kensington\, PA 15068
URL:https://fatcatfundraisers.com/event/e-k-c-c-fundraiser/
LOCATION:PA
CATEGORIES:Upcoming Fundraisers
END:VEVENT
BEGIN:VEVENT
DTSTART;TZID=America/New_York:20230308T080000
DTEND;TZID=America/New_York:20230308T150000
DTSTAMP:20260424T060801
CREATED:20230225T162322Z
LAST-MODIFIED:20230225T175800Z
UID:132-1678262400-1678287600@fatcatfundraisers.com
SUMMARY:McIntyre Fundraiser
DESCRIPTION:Burrell High School is sponsoring a fundraiser for a Chief McIntyre Memorial Pre Order at fatcat@fatcatfundraisers.com or call 724-448-3399 Walk in pick up also available at Fat Cat Fundraisers 832 Fifth Avenue New Kensington\, Pa 15068
URL:https://fatcatfundraisers.com/event/sample-upcoming-fundraiser/
LOCATION:Fat Cat Fundraisers\, 832 Fifth Ave\, New Kensington\, PA\, 15068\, United States
CATEGORIES:Upcoming Fundraisers
END:VEVENT
BEGIN:VEVENT
DTSTART;VALUE=DATE:20221203
DTEND;VALUE=DATE:20221204
DTSTAMP:20260424T060801
CREATED:20221206T200102Z
LAST-MODIFIED:20230225T162115Z
UID:92-1670025600-1670111999@fatcatfundraisers.com
SUMMARY:Orange Tent Event
DESCRIPTION:Come see Fat Cat!
URL:https://fatcatfundraisers.com/event/orange-tent-event/
LOCATION:Fat Cat Fundraisers\, 832 Fifth Ave\, New Kensington\, PA\, 15068\, United States
CATEGORIES:Orange Tent Events
END:VEVENT
END:VCALENDAR