BEGIN:VCALENDAR
VERSION:2.0
PRODID:-//Fat Cat Fundraisers - ECPv6.15.20//NONSGML v1.0//EN
CALSCALE:GREGORIAN
METHOD:PUBLISH
X-ORIGINAL-URL:https://fatcatfundraisers.com
X-WR-CALDESC:Events for Fat Cat Fundraisers
REFRESH-INTERVAL;VALUE=DURATION:PT1H
X-Robots-Tag:noindex
X-PUBLISHED-TTL:PT1H
BEGIN:VTIMEZONE
TZID:America/New_York
BEGIN:DAYLIGHT
TZOFFSETFROM:-0500
TZOFFSETTO:-0400
TZNAME:EDT
DTSTART:20220313T070000
END:DAYLIGHT
BEGIN:STANDARD
TZOFFSETFROM:-0400
TZOFFSETTO:-0500
TZNAME:EST
DTSTART:20221106T060000
END:STANDARD
BEGIN:DAYLIGHT
TZOFFSETFROM:-0500
TZOFFSETTO:-0400
TZNAME:EDT
DTSTART:20230312T070000
END:DAYLIGHT
BEGIN:STANDARD
TZOFFSETFROM:-0400
TZOFFSETTO:-0500
TZNAME:EST
DTSTART:20231105T060000
END:STANDARD
BEGIN:DAYLIGHT
TZOFFSETFROM:-0500
TZOFFSETTO:-0400
TZNAME:EDT
DTSTART:20240310T070000
END:DAYLIGHT
BEGIN:STANDARD
TZOFFSETFROM:-0400
TZOFFSETTO:-0500
TZNAME:EST
DTSTART:20241103T060000
END:STANDARD
END:VTIMEZONE
BEGIN:VEVENT
DTSTART;TZID=America/New_York:20230701T110000
DTEND;TZID=America/New_York:20230701T190000
DTSTAMP:20260424T030930
CREATED:20230303T005113Z
LAST-MODIFIED:20230303T005550Z
UID:259-1688209200-1688238000@fatcatfundraisers.com
SUMMARY:Springdale All Class Reunion
DESCRIPTION:Join Fat Cats Orange Tents at SHS Alumni Big Party !!
URL:https://fatcatfundraisers.com/event/springdale-all-class-reunion/
LOCATION:Syria Mosque Harmar
CATEGORIES:Orange Tent Events
END:VEVENT
BEGIN:VEVENT
DTSTART;TZID=America/New_York:20230630T170000
DTEND;TZID=America/New_York:20230630T200000
DTSTAMP:20260424T030930
CREATED:20230611T095414Z
LAST-MODIFIED:20230611T095414Z
UID:403-1688144400-1688155200@fatcatfundraisers.com
SUMMARY:Springdale Dynamos 50 year W.P.I.A.L Celebration / Kriven Club
DESCRIPTION:Kriven Club will hosting this Event In 1973 the Springdale Dynamos won W.P.I.A.L. Championships in Football and Soccer. This is the  Pre Party to the Springdale All Class Reunion the next day at the Syria Mosque. Which we also be feeding\!!
URL:https://fatcatfundraisers.com/event/springdale-dynamos-50-year-w-p-i-a-l-celebration-kriven-club/
LOCATION:PA
CATEGORIES:Orange Tent Events
END:VEVENT
BEGIN:VEVENT
DTSTART;TZID=America/New_York:20230624T120000
DTEND;TZID=America/New_York:20230624T200000
DTSTAMP:20260424T030930
CREATED:20230314T190458Z
LAST-MODIFIED:20230314T191221Z
UID:286-1687608000-1687636800@fatcatfundraisers.com
SUMMARY:Vandergrift Pride in the Park
DESCRIPTION:Orange Tent Events is bringing Fat Cat Subs to your event this weekend with a five-sandwich menu of shrimp po’boys\, cheesesteaks\, Italian\, ham & cheese\, and braised turkey breast subs. They also sell gourmet “Dirty’s” potato chips and limeade.
URL:https://fatcatfundraisers.com/event/vandergrift-pride-in-the-park/
LOCATION:Kennedy Park Vandergrift
CATEGORIES:Orange Tent Events
END:VEVENT
BEGIN:VEVENT
DTSTART;TZID=America/New_York:20230623T160000
DTEND;TZID=America/New_York:20230623T210000
DTSTAMP:20260424T030930
CREATED:20230228T124111Z
LAST-MODIFIED:20230228T124111Z
UID:233-1687536000-1687554000@fatcatfundraisers.com
SUMMARY:Fridays on Fifth
DESCRIPTION:New Kensington’s very popular Fridays on Fifth is back As usual we will be across from the New UPMC Courtyard on the ten hundred block of Fifth Avenue
URL:https://fatcatfundraisers.com/event/fridays-on-fifth-3/
LOCATION:Downtown New Kensington\, New Kensington\, PA\, 15068\, United States
CATEGORIES:Orange Tent Events
END:VEVENT
BEGIN:VEVENT
DTSTART;VALUE=DATE:20230616
DTEND;VALUE=DATE:20230619
DTSTAMP:20260424T030930
CREATED:20230521T092636Z
LAST-MODIFIED:20230521T092636Z
UID:388-1686873600-1687132799@fatcatfundraisers.com
SUMMARY:Big Butler Parts A Rama
DESCRIPTION:We are honored to be invited the largest Auto Swap Meet in Western Pa. \nOrange Tent Events is bringing Fat Cat Subs to your event with a five-sandwich menu of Shrimp Po’boys\, Cheesesteaks\, Italian\, Smoked Ham & Cheese\, and Braised Turkey breast subs. We also sell “Dirty’s” gourmet potato chips. And our very own Nana’s Sweet Tea and Fat Cat’s Limeade.
URL:https://fatcatfundraisers.com/event/big-butler-parts-a-rama/
LOCATION:Butler Fair Grounds\, 1127 New Castle Road\, Prospect\, Pa\, 16052
CATEGORIES:Orange Tent Events
END:VEVENT
BEGIN:VEVENT
DTSTART;TZID=America/New_York:20230604T120000
DTEND;TZID=America/New_York:20230604T190000
DTSTAMP:20260424T030930
CREATED:20230403T110906Z
LAST-MODIFIED:20230406T135443Z
UID:305-1685880000-1685905200@fatcatfundraisers.com
SUMMARY:Cheswick Strawberry Festival
DESCRIPTION:Cheswick Recreation Boards very popular festival Orange Tent Events is bringing Fat Cat Subs to your event with a five-sandwich menu of Shrimp Po’boys\, Cheesesteaks\, Italian\, Smoked Ham & Cheese\, and Braised Turkey breast subs. We also sell “Dirty’s” gourmet potato chips. And our very own Nana’s Sweet Tea and Fat Cat’s Limeade. \nJuly 2023
URL:https://fatcatfundraisers.com/event/cheswick-strawberry-festival/
LOCATION:PA
CATEGORIES:Orange Tent Events
END:VEVENT
BEGIN:VEVENT
DTSTART;TZID=America/New_York:20230603T120000
DTEND;TZID=America/New_York:20230603T170000
DTSTAMP:20260424T030930
CREATED:20230502T133906Z
LAST-MODIFIED:20230502T134409Z
UID:361-1685793600-1685811600@fatcatfundraisers.com
SUMMARY:Josh's Journey 5K Walk & Run
DESCRIPTION:Come out and support this great cause. Orange Tent Events is bringing Fat Cat Subs to your event with a five-sandwich menu of Shrimp Po’boys\, Cheesesteaks\, Italian\, Smoked Ham & Cheese\, and Braised Turkey breast subs. We also sell “Dirty’s” gourmet potato chips. And our very own Nana’s Sweet Tea and Fat Cat’s Limeade. \nFree
URL:https://fatcatfundraisers.com/event/joshs-journey-5k-walk-run/
LOCATION:Kennedy Park Vandergrift
CATEGORIES:Orange Tent Events
END:VEVENT
BEGIN:VEVENT
DTSTART;TZID=America/New_York:20230602T160000
DTEND;TZID=America/New_York:20230602T203000
DTSTAMP:20260424T030930
CREATED:20230406T153233Z
LAST-MODIFIED:20230406T153233Z
UID:323-1685721600-1685737800@fatcatfundraisers.com
SUMMARY:Ford City First Fridays
DESCRIPTION:Orange Tent Events is bringing Fat Cat Subs to your event with a five-sandwich menu of Shrimp Po’boys\, Cheesesteaks\, Italian\, Smoked Ham & Cheese\, and Braised Turkey breast subs. We also sell “Dirty’s” gourmet potato chips. And our very own Nana’s Sweet Tea and Fat Cat’s Limeade.
URL:https://fatcatfundraisers.com/event/ford-city-first-fridays/
LOCATION:Ford City Park\, Ford City\, PA\, 16226\, United States
CATEGORIES:Orange Tent Events
END:VEVENT
BEGIN:VEVENT
DTSTART;TZID=America/New_York:20230531T080000
DTEND;TZID=America/New_York:20230531T160000
DTSTAMP:20260424T030930
CREATED:20230510T105533Z
LAST-MODIFIED:20230510T110208Z
UID:374-1685520000-1685548800@fatcatfundraisers.com
SUMMARY:Shaler Football Boosters
DESCRIPTION:Please help support Shaler High School Football in their Fundraising efforts. With their first ever Fat Cat Fundraiser. Call Amy for more info 412-779-0891 pick up at the High School at 4pm
URL:https://fatcatfundraisers.com/event/shaler-football-boosters/
LOCATION:PA
CATEGORIES:Upcoming Fundraisers
END:VEVENT
BEGIN:VEVENT
DTSTART;TZID=America/New_York:20230527T160000
DTEND;TZID=America/New_York:20230527T220000
DTSTAMP:20260424T030930
CREATED:20230526T120753Z
LAST-MODIFIED:20230526T120753Z
UID:395-1685203200-1685224800@fatcatfundraisers.com
SUMMARY:This is Pittsburgh Rock Concert
DESCRIPTION:We are very proud to be a part of another Riverfront Event. In Aspinwalls Rivertrail Park. Orange Tent Events is bringing Fat Cat Subs to your event with a five-sandwich menu of Shrimp Po’boys\, Cheesesteaks\, Italian\, Smoked Ham & Cheese\, and Braised Turkey breast subs. We also sell “Dirty’s” gourmet potato chips. And our very own Nana’s Sweet Tea and Fat Cat’s Limeade.
URL:https://fatcatfundraisers.com/event/this-is-pittsburgh-rock-concert/
LOCATION:Allegheny Rivertrail Park\, 285 River Avenue\, Pittsburgh\, PA\, 15215\, United States
CATEGORIES:Orange Tent Events
END:VEVENT
BEGIN:VEVENT
DTSTART;TZID=America/New_York:20230526T160000
DTEND;TZID=America/New_York:20230526T210000
DTSTAMP:20260424T030930
CREATED:20230228T123714Z
LAST-MODIFIED:20230228T123803Z
UID:229-1685116800-1685134800@fatcatfundraisers.com
SUMMARY:Fridays on Fifth
DESCRIPTION:New Kensington’s very popular Fridays on Fifth is back As usual we will be across from the New UPMC Courtyard on the ten hundred block of Fifth Avenue
URL:https://fatcatfundraisers.com/event/fridays-on-fifth-2/
LOCATION:Downtown New Kensington\, New Kensington\, PA\, 15068\, United States
CATEGORIES:Orange Tent Events
END:VEVENT
BEGIN:VEVENT
DTSTART;TZID=America/New_York:20230524T080000
DTEND;TZID=America/New_York:20230524T170000
DTSTAMP:20260424T030930
CREATED:20230404T101043Z
LAST-MODIFIED:20230404T101409Z
UID:307-1684915200-1684947600@fatcatfundraisers.com
SUMMARY:Acme School
DESCRIPTION:Acmetonia Middle School will be doing there Spring Fundraiser on May 24th Subs can be ordered through fatcat@fatcatfundraisers.com \, 724-448-3399\, walkin @ 832 Fifth Avenue New Kensington\, Pa 15068 or at the school
URL:https://fatcatfundraisers.com/event/acme-school/
LOCATION:Fat Cat Fundraisers\, 832 Fifth Ave\, New Kensington\, PA\, 15068\, United States
CATEGORIES:Upcoming Fundraisers
END:VEVENT
BEGIN:VEVENT
DTSTART;TZID=America/New_York:20230522T080000
DTEND;TZID=America/New_York:20230522T150000
DTSTAMP:20260424T030930
CREATED:20230424T011321Z
LAST-MODIFIED:20230424T011950Z
UID:337-1684742400-1684767600@fatcatfundraisers.com
SUMMARY:Joyful Twirlers Fundraiser
DESCRIPTION:The Joyful Twirlers will be using us this year for their Hoagie Fundraiser.\nYou can reach Gina at joyfultwirlers@gmail.com to order.  \nSubs can be ordered through fatcat@fatcatfundraisers.com \, 724-448-3399\, walkin @ 832 Fifth Avenue New Kensington\, Pa 15068
URL:https://fatcatfundraisers.com/event/joyful-twirlers-fundraiser/
LOCATION:PA
CATEGORIES:Upcoming Fundraisers
END:VEVENT
BEGIN:VEVENT
DTSTART;TZID=America/New_York:20230520T120000
DTEND;TZID=America/New_York:20230520T170000
DTSTAMP:20260424T030930
CREATED:20230406T151034Z
LAST-MODIFIED:20230406T151034Z
UID:317-1684584000-1684602000@fatcatfundraisers.com
SUMMARY:Apollo 3rd Annual May Daze
DESCRIPTION:Orange Tent Events is bringing Fat Cat Subs to your event with a five-sandwich menu of Shrimp Po’boys\, Cheesesteaks\, Italian\, Smoked Ham & Cheese\, and Braised Turkey breast subs. We also sell “Dirty’s” gourmet potato chips. And our very own Nana’s Sweet Tea and Fat Cat’s Limeade.
URL:https://fatcatfundraisers.com/event/apollo-3rd-annual-may-daze/
LOCATION:PA
CATEGORIES:Orange Tent Events
END:VEVENT
BEGIN:VEVENT
DTSTART;TZID=America/New_York:20230518T160000
DTEND;TZID=America/New_York:20230518T190000
DTSTAMP:20260424T030930
CREATED:20230502T130831Z
LAST-MODIFIED:20230502T130831Z
UID:359-1684425600-1684436400@fatcatfundraisers.com
SUMMARY:100 Year Leechburg School Celebration
DESCRIPTION:Orange Tent Events is bringing Fat Cat Subs to your event with a five-sandwich menu of Shrimp Po’boys\, Cheesesteaks\, Italian\, Smoked Ham & Cheese\, and Braised Turkey breast subs. We also sell “Dirty’s” gourmet potato chips. And our very own Nana’s Sweet Tea and Fat Cat’s Limeade.
URL:https://fatcatfundraisers.com/event/100-year-leechburg-school-celebration/
LOCATION:PA
CATEGORIES:Orange Tent Events
END:VEVENT
BEGIN:VEVENT
DTSTART;TZID=America/New_York:20230506T100000
DTEND;TZID=America/New_York:20230507T180000
DTSTAMP:20260424T030930
CREATED:20230502T121741Z
LAST-MODIFIED:20230502T130005Z
UID:356-1683367200-1683482400@fatcatfundraisers.com
SUMMARY:Western Pennsylvania Youth Rodeo
DESCRIPTION:We are very proud to be teaming up with Crooked Creek Horse Park for Events this summer. \nOrange Tent Events is bringing Fat Cat Subs to your event with a five-sandwich menu of Shrimp Po’boys\, Cheesesteaks\, Italian\, Smoked Ham & Cheese\, and Braised Turkey breast subs. We also sell “Dirty’s” gourmet potato chips. And our very own Nana’s Sweet Tea and Fat Cat’s Limeade.
URL:https://fatcatfundraisers.com/event/western-pennsylvania-youth-rodeo/
LOCATION:PA
CATEGORIES:Orange Tent Events
END:VEVENT
BEGIN:VEVENT
DTSTART;TZID=America/New_York:20230505T160000
DTEND;TZID=America/New_York:20230505T203000
DTSTAMP:20260424T030930
CREATED:20230406T152352Z
LAST-MODIFIED:20230406T152750Z
UID:319-1683302400-1683318600@fatcatfundraisers.com
SUMMARY:First Fridays Ford City
DESCRIPTION:We are happy to announce we will be participating in all of the First Fridays 2023 Season Events \n Orange Tent Events is bringing Fat Cat Subs to your event with a five-sandwich menu of Shrimp Po’boys\, Cheesesteaks\, Italian\, Smoked Ham & Cheese\, and Braised Turkey breast subs. We also sell “Dirty’s” gourmet potato chips. And our very own Nana’s Sweet Tea and Fat Cat’s Limeade.
URL:https://fatcatfundraisers.com/event/first-fridays-ford-city/
LOCATION:Ford City Park\, Ford City\, PA\, 16226\, United States
CATEGORIES:Orange Tent Events
END:VEVENT
BEGIN:VEVENT
DTSTART;TZID=America/New_York:20230430T080000
DTEND;TZID=America/New_York:20230430T180000
DTSTAMP:20260424T030930
CREATED:20230328T134728Z
LAST-MODIFIED:20230328T135059Z
UID:299-1682841600-1682877600@fatcatfundraisers.com
SUMMARY:Crooked Creek Tack Swap
DESCRIPTION:Take the day and Horse Around at  Crooked Creek Horse Park Annual Tack Swap. \nOrange Tent Events is bringing Fat Cat Subs to your event this weekend with a five-sandwich menu of shrimp po’boys\, cheesesteaks\, Italian\, ham & cheese\, and braised turkey breast subs. They also sell gourmet “Dirty’s” potato chips and limeade.
URL:https://fatcatfundraisers.com/event/crooked-creek-tack-swap/
LOCATION:Crooked Creek Horse Park
CATEGORIES:Orange Tent Events
END:VEVENT
BEGIN:VEVENT
DTSTART;TZID=America/New_York:20230428T160000
DTEND;TZID=America/New_York:20230428T210000
DTSTAMP:20260424T030930
CREATED:20230228T123107Z
LAST-MODIFIED:20230228T123107Z
UID:224-1682697600-1682715600@fatcatfundraisers.com
SUMMARY:Fridays on Fifth
DESCRIPTION:New Kensington’s very popular Fridays on Fifth is back As usual we will be across from the New UPMC Courtyard on the ten hundred block of Fifth Avenue
URL:https://fatcatfundraisers.com/event/fridays-on-fifth/
LOCATION:PA
CATEGORIES:Orange Tent Events
END:VEVENT
BEGIN:VEVENT
DTSTART;TZID=America/New_York:20230422T110000
DTEND;TZID=America/New_York:20230422T150000
DTSTAMP:20260424T030930
CREATED:20230315T083913Z
LAST-MODIFIED:20230315T083913Z
UID:291-1682161200-1682175600@fatcatfundraisers.com
SUMMARY:Boy Scout Troop 134 @ Lowes
DESCRIPTION:Troop 134 will sell hoagies in front of Lowes Pittsburgh Mills from 11am till 3pm Please support this Troop !
URL:https://fatcatfundraisers.com/event/boy-scout-troop-134-lowes/
LOCATION:PA
CATEGORIES:Upcoming Fundraisers
END:VEVENT
BEGIN:VEVENT
DTSTART;TZID=America/New_York:20230413T080000
DTEND;TZID=America/New_York:20230413T170000
DTSTAMP:20260424T030930
CREATED:20230314T183323Z
LAST-MODIFIED:20230314T183323Z
UID:284-1681372800-1681405200@fatcatfundraisers.com
SUMMARY:Armstrong School Soccer Team
DESCRIPTION:Armstrong Soccer Boosters is sponsoring a fundraiser for their Soccer Team Pre Order at fatcat@fatcatfundraisers.com or call 724-448-3399 Walk in pick up also available at Fat Cat Fundraisers 832 Fifth Avenue New Kensington\, PA 15068
URL:https://fatcatfundraisers.com/event/armstrong-school-soccer-team/
LOCATION:PA
CATEGORIES:Upcoming Fundraisers
END:VEVENT
BEGIN:VEVENT
DTSTART;TZID=America/New_York:20230401T120000
DTEND;TZID=America/New_York:20230401T170000
DTSTAMP:20260424T030930
CREATED:20230328T133147Z
LAST-MODIFIED:20230328T133147Z
UID:297-1680350400-1680368400@fatcatfundraisers.com
SUMMARY:Spirit\, Light\, & Art Festivial
DESCRIPTION:Some of the Area’s Finest Psychics\, Readers\, and Energy Workers Selling tools of the trade along   Artists and Crafters COme check it out
URL:https://fatcatfundraisers.com/event/spirit-light-art-festivial/
LOCATION:Clarion Inn\, New Kensington\, 300 Tarentum Bridge Rd\, New Kensington\, PA\, 15068\, United States
CATEGORIES:Orange Tent Events
END:VEVENT
BEGIN:VEVENT
DTSTART;TZID=America/New_York:20230330T080000
DTEND;TZID=America/New_York:20230330T140000
DTSTAMP:20260424T030930
CREATED:20230225T180741Z
LAST-MODIFIED:20230225T180741Z
UID:149-1680163200-1680184800@fatcatfundraisers.com
SUMMARY:New Ken Scout Troop 134
DESCRIPTION:Troop 134 is sponsoring a fundraiser  Pre Order at fatcat@fatcatfundraisers.com or call 724-448-3399 Walk in pick up also available at Fat Cat Fundraisers 832 Fifth Avenue New Kensington\, PA 15068
URL:https://fatcatfundraisers.com/event/new-ken-scout-troop-134/
LOCATION:Fat Cat Fundraisers\, 832 Fifth Ave\, New Kensington\, PA\, 15068\, United States
CATEGORIES:Upcoming Fundraisers
END:VEVENT
BEGIN:VEVENT
DTSTART;VALUE=DATE:20230326
DTEND;VALUE=DATE:20230327
DTSTAMP:20260424T030930
CREATED:20230225T140833Z
LAST-MODIFIED:20230228T121940Z
UID:112-1679788800-1679875199@fatcatfundraisers.com
SUMMARY:McIntyre Event
DESCRIPTION:Share
URL:https://fatcatfundraisers.com/event/mcintyre-event/
LOCATION:Clarion Inn\, New Kensington\, 300 Tarentum Bridge Rd\, New Kensington\, PA\, 15068\, United States
CATEGORIES:Orange Tent Events
ORGANIZER;CN="Orange Tent Events":MAILTO:fatcat@fatcatfundraisers.com
END:VEVENT
BEGIN:VEVENT
DTSTART;TZID=America/New_York:20230325T110000
DTEND;TZID=America/New_York:20230325T150000
DTSTAMP:20260424T030930
CREATED:20230225T155321Z
LAST-MODIFIED:20230225T162120Z
UID:116-1679742000-1679756400@fatcatfundraisers.com
SUMMARY:New Ken Restaurant Ramble
DESCRIPTION:Fat Cat Fundraising will be offering our Italian or Turkey and Cheese Fundraiser Sub with our Wedding Soup and a Lime Aid or Sweet Tea
URL:https://fatcatfundraisers.com/event/new-ken-restaurant-ramble/
LOCATION:Fat Cat Fundraisers\, 832 Fifth Ave\, New Kensington\, PA\, 15068\, United States
CATEGORIES:Orange Tent Events
END:VEVENT
BEGIN:VEVENT
DTSTART;TZID=America/New_York:20230323T080000
DTEND;TZID=America/New_York:20230323T150000
DTSTAMP:20260424T030930
CREATED:20230225T180204Z
LAST-MODIFIED:20230225T180332Z
UID:147-1679558400-1679583600@fatcatfundraisers.com
SUMMARY:Valley High Travel Club
DESCRIPTION:VHS is sponsoring a fundraiser for their Travel Club Pre Order at fatcat@fatcatfundraisers.com or call 724-448-3399 Walk in pick up also available at Fat Cat Fundraisers 832 Fifth Avenue New Kensington\, PA 15068
URL:https://fatcatfundraisers.com/event/valley-high-travel-club/
LOCATION:Fat Cat Fundraisers\, 832 Fifth Ave\, New Kensington\, PA\, 15068\, United States
CATEGORIES:Upcoming Fundraisers
END:VEVENT
BEGIN:VEVENT
DTSTART;TZID=America/New_York:20230322T080000
DTEND;TZID=America/New_York:20230322T140000
DTSTAMP:20260424T030930
CREATED:20230225T174543Z
LAST-MODIFIED:20230307T092802Z
UID:142-1679472000-1679493600@fatcatfundraisers.com
SUMMARY:Saint Joes Prom
DESCRIPTION:Saint Joes High School is sponsoring a fundraiser for their Prom \nPre Order at fatcat@fatcatfundraisers.com or 724-448-3399  Walk in pick up also available at 832 Fifth Avenue New Kensington\, PA 15068
URL:https://fatcatfundraisers.com/event/saint-joes-prom/
LOCATION:Fat Cat Fundraisers\, 832 Fifth Ave\, New Kensington\, PA\, 15068\, United States
CATEGORIES:Upcoming Fundraisers
END:VEVENT
BEGIN:VEVENT
DTSTART;TZID=America/New_York:20230321T080000
DTEND;TZID=America/New_York:20230321T150000
DTSTAMP:20260424T030930
CREATED:20230309T165036Z
LAST-MODIFIED:20230309T165852Z
UID:275-1679385600-1679410800@fatcatfundraisers.com
SUMMARY:Springdale Sportsman Club
DESCRIPTION:Springdale Sportsman is sponsoring a fundraiser for their  events committee Orders can be placed at fatcat@fatcatfundraisers.com or 724-448-3399  Walk in pick up also available at 832 Fifth Avenue New Kensington\, PA 15068
URL:https://fatcatfundraisers.com/event/springdale-sportsman-club/
LOCATION:PA
CATEGORIES:Upcoming Fundraisers
END:VEVENT
BEGIN:VEVENT
DTSTART;TZID=America/New_York:20230321T080000
DTEND;TZID=America/New_York:20230321T120000
DTSTAMP:20260424T030930
CREATED:20230309T165312Z
LAST-MODIFIED:20230309T165701Z
UID:277-1679385600-1679400000@fatcatfundraisers.com
SUMMARY:E.K.C.C. Fundraiser
DESCRIPTION:East Kensington Community Circle is sponsoring a fundraiser for their building fund. Orders can be placed at fatcat@fatcatfundraisers.com or 724-448-3399  Walk in pick up also available at 832 Fifth Avenue New Kensington\, PA 15068
URL:https://fatcatfundraisers.com/event/e-k-c-c-fundraiser/
LOCATION:PA
CATEGORIES:Upcoming Fundraisers
END:VEVENT
BEGIN:VEVENT
DTSTART;TZID=America/New_York:20230308T080000
DTEND;TZID=America/New_York:20230308T150000
DTSTAMP:20260424T030930
CREATED:20230225T162322Z
LAST-MODIFIED:20230225T175800Z
UID:132-1678262400-1678287600@fatcatfundraisers.com
SUMMARY:McIntyre Fundraiser
DESCRIPTION:Burrell High School is sponsoring a fundraiser for a Chief McIntyre Memorial Pre Order at fatcat@fatcatfundraisers.com or call 724-448-3399 Walk in pick up also available at Fat Cat Fundraisers 832 Fifth Avenue New Kensington\, Pa 15068
URL:https://fatcatfundraisers.com/event/sample-upcoming-fundraiser/
LOCATION:Fat Cat Fundraisers\, 832 Fifth Ave\, New Kensington\, PA\, 15068\, United States
CATEGORIES:Upcoming Fundraisers
END:VEVENT
END:VCALENDAR