BEGIN:VCALENDAR
VERSION:2.0
PRODID:-//Fat Cat Fundraisers - ECPv6.15.20//NONSGML v1.0//EN
CALSCALE:GREGORIAN
METHOD:PUBLISH
X-ORIGINAL-URL:https://fatcatfundraisers.com
X-WR-CALDESC:Events for Fat Cat Fundraisers
REFRESH-INTERVAL;VALUE=DURATION:PT1H
X-Robots-Tag:noindex
X-PUBLISHED-TTL:PT1H
BEGIN:VTIMEZONE
TZID:America/New_York
BEGIN:DAYLIGHT
TZOFFSETFROM:-0500
TZOFFSETTO:-0400
TZNAME:EDT
DTSTART:20230312T070000
END:DAYLIGHT
BEGIN:STANDARD
TZOFFSETFROM:-0400
TZOFFSETTO:-0500
TZNAME:EST
DTSTART:20231105T060000
END:STANDARD
BEGIN:DAYLIGHT
TZOFFSETFROM:-0500
TZOFFSETTO:-0400
TZNAME:EDT
DTSTART:20240310T070000
END:DAYLIGHT
BEGIN:STANDARD
TZOFFSETFROM:-0400
TZOFFSETTO:-0500
TZNAME:EST
DTSTART:20241103T060000
END:STANDARD
BEGIN:DAYLIGHT
TZOFFSETFROM:-0500
TZOFFSETTO:-0400
TZNAME:EDT
DTSTART:20250309T070000
END:DAYLIGHT
BEGIN:STANDARD
TZOFFSETFROM:-0400
TZOFFSETTO:-0500
TZNAME:EST
DTSTART:20251102T060000
END:STANDARD
BEGIN:DAYLIGHT
TZOFFSETFROM:-0500
TZOFFSETTO:-0400
TZNAME:EDT
DTSTART:20260308T070000
END:DAYLIGHT
BEGIN:STANDARD
TZOFFSETFROM:-0400
TZOFFSETTO:-0500
TZNAME:EST
DTSTART:20261101T060000
END:STANDARD
END:VTIMEZONE
BEGIN:VEVENT
DTSTART;TZID=America/New_York:20250608T120000
DTEND;TZID=America/New_York:20250608T180000
DTSTAMP:20260423T143734
CREATED:20250522T191927Z
LAST-MODIFIED:20250522T191927Z
UID:720-1749384000-1749405600@fatcatfundraisers.com
SUMMARY:Oakmont US Open Street Party
DESCRIPTION:Help kick off the Open in Verona \n\n\n\n\n\n\n\n\n\n\n\n\n\n\n\n\n\n\n\n\n\n\n\n\nFat Cat’s Orange Tent Events is proud to represent with a five-sandwich menu of Shrimp Po’boys\, Cheesesteaks\, Italian\,  Fat Steak\, and Braised Turkey Breast subs. We also sell gourmet “Dirty’s” potato chips..\n\n\nWe are health board licensed through the City of New Kensington\, have certified food handlers\, and a one million dollar blanket liability policy. We always have a big following where ever we go and would love to participate\, if you have room. You can check out our schedule on www.fatcatfundraisers.com\n\n\nThank you for your time in this matter\n\n\nJon “fat cat” Wildi\n724-448-3399
URL:https://fatcatfundraisers.com/event/oakmont-us-open-street-party/
CATEGORIES:Orange Tent Events
END:VEVENT
BEGIN:VEVENT
DTSTART;TZID=America/New_York:20250601T150000
DTEND;TZID=America/New_York:20250601T190000
DTSTAMP:20260423T143734
CREATED:20250522T191616Z
LAST-MODIFIED:20250522T191616Z
UID:716-1748790000-1748804400@fatcatfundraisers.com
SUMMARY:Strawberry Festival
DESCRIPTION:The annual festival  that  celebrates everything  Strawberry. \n\n\n\n\n\n\n\n\n\n\n\n\n\n\n\n\n\n\n\n\n\n\n\n\nFat Cat’s Orange Tent Events is proud to represent with a five-sandwich menu of Shrimp Po’boys\, Cheesesteaks\, Italian\,  Fat Steak\, and Braised Turkey Breast subs. We also sell gourmet “Dirty’s” potato chips..\n\n\nWe are health board licensed through the City of New Kensington\, have certified food handlers\, and a one million dollar blanket liability policy. We always have a big following where ever we go and would love to participate\, if you have room. You can check out our schedule on www.fatcatfundraisers.com\n\n\nThank you for your time in this matter\n\n\nJon “fat cat” Wildi\n724-448-3399
URL:https://fatcatfundraisers.com/event/strawberry-festival-2/
LOCATION:Rachel Carson Park\, Cheswick
CATEGORIES:Orange Tent Events
END:VEVENT
BEGIN:VEVENT
DTSTART;TZID=America/New_York:20250523T170000
DTEND;TZID=America/New_York:20250523T210000
DTSTAMP:20260423T143734
CREATED:20250501T112444Z
LAST-MODIFIED:20250501T112444Z
UID:698-1748019600-1748034000@fatcatfundraisers.com
SUMMARY:Fridays on Fifth
DESCRIPTION:New Kensington’s Award Winning Event Always proud to be a part of supporting our home town !!! \n  \nFat Cat’s Orange Tent Events is proud to represent with a five-sandwich menu of Shrimp Po’boys\, Cheesesteaks\, Italian\, Ham & Cheese\, Braised Turkey Breast subs and KID’S Hot Dog Meals.. We also sell gourmet “Dirty’s” potato chips.and our own Homemade Wedding Soup \nWe are health board licensed through the City of New Kensington\, have certified food handlers\,
URL:https://fatcatfundraisers.com/event/fridays-on-fifth-14/
LOCATION:Downtown New Kensington\, New Kensington\, PA\, 15068\, United States
CATEGORIES:Orange Tent Events
END:VEVENT
BEGIN:VEVENT
DTSTART;TZID=America/New_York:20250520T170000
DTEND;TZID=America/New_York:20250520T200000
DTSTAMP:20260423T143734
CREATED:20250501T110711Z
LAST-MODIFIED:20250501T110711Z
UID:691-1747760400-1747771200@fatcatfundraisers.com
SUMMARY:West Deer Vendor Show
DESCRIPTION:A great day in the country !! \nFat Cat’s Orange Tent Events is proud to represent with a five-sandwich menu of Shrimp Po’boys\, Cheesesteaks\, Italian\, Ham & Cheese\, Braised Turkey Breast subs and KID’S Hot Dog Meals.. We also sell gourmet “Dirty’s” potato chips.and our own Homemade Wedding Soup \nWe are health board licensed through the City of New Kensington\, have certified food handlers\, \n 
URL:https://fatcatfundraisers.com/event/west-deer-vendor-show/
LOCATION:West Deer  Nike Park
CATEGORIES:Orange Tent Events
END:VEVENT
BEGIN:VEVENT
DTSTART;TZID=America/New_York:20250516T160000
DTEND;TZID=America/New_York:20250516T210000
DTSTAMP:20260423T143734
CREATED:20250501T105013Z
LAST-MODIFIED:20250501T105740Z
UID:686-1747411200-1747429200@fatcatfundraisers.com
SUMMARY:Gathering on Grant
DESCRIPTION:This popular event has moved from Thursday’s to the third Friday of the month.. Come support Fat Cat and get a great sandwich !! \nFat Cat’s Orange Tent Events is proud to represent with a five-sandwich menu of Shrimp Po’boys\, Cheesesteaks\, Italian\, Ham & Cheese\, Braised Turkey Breast subs and KID’S Hot Dog Meals.. We also sell gourmet “Dirty’s” potato chips.and our own Homemade Wedding Soup \nWe are health board licensed through the City of New Kensington\, have certified food handlers\,
URL:https://fatcatfundraisers.com/event/gathering-on-grant-2/
LOCATION:Downtown Vandergrift\, Grant Street\, Vandergrift\, PA\, 15690\, United States
CATEGORIES:Orange Tent Events
END:VEVENT
BEGIN:VEVENT
DTSTART;TZID=America/New_York:20250508T160000
DTEND;TZID=America/New_York:20250508T210000
DTSTAMP:20260423T143734
CREATED:20250410T022524Z
LAST-MODIFIED:20250501T105905Z
UID:683-1746720000-1746738000@fatcatfundraisers.com
SUMMARY:Tarentum Night Market
DESCRIPTION:Come visit us at our New Location on First Avenue \n  \nFat Cat’s Orange Tent Events is proud to represent with a five-sandwich menu of Shrimp Po’boys\, Cheesesteaks\, Italian\, Ham & Cheese\, Braised Turkey Breast subs and KID’S Hot Dog Meals.. We also sell gourmet “Dirty’s” potato chips.and our own Homemade Wedding Soup \nWe are health board licensed through the City of New Kensington\, have certified food handlers\,
URL:https://fatcatfundraisers.com/event/tarentum-night-market-7/
LOCATION:Downton Tarentum\, PA\, United States
CATEGORIES:Orange Tent Events
END:VEVENT
BEGIN:VEVENT
DTSTART;TZID=America/New_York:20250425T170000
DTEND;TZID=America/New_York:20250425T210000
DTSTAMP:20260423T143734
CREATED:20250410T022124Z
LAST-MODIFIED:20250410T022124Z
UID:681-1745600400-1745614800@fatcatfundraisers.com
SUMMARY:Fridays on Fifth
DESCRIPTION:Start the season off with New Kensington’s biggest Event !!
URL:https://fatcatfundraisers.com/event/fridays-on-fifth-10/
LOCATION:Downtown New Kensington\, New Kensington\, PA\, 15068\, United States
CATEGORIES:Orange Tent Events
END:VEVENT
BEGIN:VEVENT
DTSTART;TZID=America/New_York:20250308T080000
DTEND;TZID=America/New_York:20250308T170000
DTSTAMP:20260423T143734
CREATED:20250308T132615Z
LAST-MODIFIED:20250308T132615Z
UID:677-1741420800-1741453200@fatcatfundraisers.com
SUMMARY:2025 Season
DESCRIPTION:We will  be posting our 2025 Schedule Soon !!! Look for updates
URL:https://fatcatfundraisers.com/event/2025-season/
CATEGORIES:Orange Tent Events
END:VEVENT
BEGIN:VEVENT
DTSTART;TZID=America/New_York:20241214T133000
DTEND;TZID=America/New_York:20241214T170000
DTSTAMP:20260423T143734
CREATED:20241113T135624Z
LAST-MODIFIED:20241113T135624Z
UID:662-1734183000-1734195600@fatcatfundraisers.com
SUMMARY:Lower Burrell's Christmas in the Woods
DESCRIPTION:We represent with a six-sandwich menu of Shrimp Po’boys\, Cheesesteaks\, Italian\, Ham & Cheese\, Braised Turkey Breast and Cold Provolone Cheese Subs. We also sell gourmet “Dirty’s” potato chips.And new this Year our very own WEDDING SOUP !!
URL:https://fatcatfundraisers.com/event/lower-burrells-christmas-in-the-woods/
LOCATION:Kotecki Park\, Lower Burrell\, Wild Life Lodge Road\, Lower Burrell\, 15068
CATEGORIES:Orange Tent Events
END:VEVENT
BEGIN:VEVENT
DTSTART;TZID=America/New_York:20241206T170000
DTEND;TZID=America/New_York:20241208T150000
DTSTAMP:20260423T143734
CREATED:20240915T161652Z
LAST-MODIFIED:20240915T161848Z
UID:644-1733504400-1733670000@fatcatfundraisers.com
SUMMARY:vandergrift Holiday Extrvaganza
DESCRIPTION:We represent with a six-sandwich menu of Shrimp Po’boys\, Cheesesteaks\, Italian\, Ham & Cheese\, Braised Turkey Breast and Cold Provolone Cheese Subs. We also sell gourmet “Dirty’s” potato chips.And new this Year our very own WEDDING SOUP !!
URL:https://fatcatfundraisers.com/event/vandergrift-holiday-extrvaganza/
LOCATION:Downtown Vandergrift\, Grant Street\, Vandergrift\, PA\, 15690\, United States
CATEGORIES:Orange Tent Events
END:VEVENT
BEGIN:VEVENT
DTSTART;TZID=America/New_York:20241123T160000
DTEND;TZID=America/New_York:20241123T210000
DTSTAMP:20260423T143734
CREATED:20240129T191757Z
LAST-MODIFIED:20240129T191757Z
UID:540-1732377600-1732395600@fatcatfundraisers.com
SUMMARY:Oakmont Hometown Christmas
DESCRIPTION:We represent with a six-sandwich menu of Shrimp Po’boys\, Cheesesteaks\, Italian\, Ham & Cheese\, Braised Turkey Breast and Cold Provolone Cheese Subs. We also sell gourmet “Dirty’s” potato chips.And new this Year our very own WEDDING SOUP !!
URL:https://fatcatfundraisers.com/event/oakmont-hometown-christmas/
LOCATION:Oakmont\, Pa
CATEGORIES:Orange Tent Events
END:VEVENT
BEGIN:VEVENT
DTSTART;TZID=America/New_York:20241026T130000
DTEND;TZID=America/New_York:20241026T160000
DTSTAMP:20260423T143734
CREATED:20240127T132033Z
LAST-MODIFIED:20240127T132033Z
UID:513-1729947600-1729958400@fatcatfundraisers.com
SUMMARY:Tarentum Boo Fest
DESCRIPTION:Tarentum’s Very popular kid friendly Trick or Treat Kids gams Live Music \nFat Cat’s Orange Tent Events is proud to represent with a six-sandwich menu of Shrimp Po’boys\, Cheesesteaks\, Italian\, Ham & Cheese\, Braised Turkey Breast and Cold Provolone Cheese Subs. We also sell gourmet “Dirty’s” potato chips.And new this Year our very own WEDDING SOUP !!
URL:https://fatcatfundraisers.com/event/tarentum-boo-fest/
CATEGORIES:Orange Tent Events
END:VEVENT
BEGIN:VEVENT
DTSTART;TZID=America/New_York:20241019T110000
DTEND;TZID=America/New_York:20241019T220000
DTSTAMP:20260423T143734
CREATED:20240924T215855Z
LAST-MODIFIED:20240924T220058Z
UID:650-1729335600-1729375200@fatcatfundraisers.com
SUMMARY:Lower Burrell Fall Festival
DESCRIPTION:Fat Cat’s Orange Tent Events is proud to represent with a six-sandwich menu of Shrimp Po’boys\, Cheesesteaks\, Italian\, Ham & Cheese\, Braised Turkey Breast and Cold Provolone Cheese Subs. We also sell gourmet “Dirty’s” potato chips.And new this Year our very own WEDDING SOUP !!
URL:https://fatcatfundraisers.com/event/lower-burrell-fall-fes-tival/
CATEGORIES:Orange Tent Events
END:VEVENT
BEGIN:VEVENT
DTSTART;TZID=America/New_York:20241012T160000
DTEND;TZID=America/New_York:20241012T210000
DTSTAMP:20260423T143734
CREATED:20240325T110952Z
LAST-MODIFIED:20240325T110952Z
UID:607-1728748800-1728766800@fatcatfundraisers.com
SUMMARY:Vandergrirt Witching Hours
DESCRIPTION:For all you Ghost”s Gooblin’s and of course Witches. Fat Cat’s Orange Tent Events is proud to represent with a six-sandwich menu of Shrimp Po’boys\, Cheesesteaks\, Italian\, Ham & Cheese\, Braised Turkey Breast and Cold Provolone Cheese Subs. We also sell gourmet “Dirty’s” potato chips.And new this Year our very own WEDDING SOUP !!
URL:https://fatcatfundraisers.com/event/vandergrirt-witching-hours/
LOCATION:Downtown Vandergrift\, Grant Street\, Vandergrift\, PA\, 15690\, United States
CATEGORIES:Orange Tent Events
END:VEVENT
BEGIN:VEVENT
DTSTART;TZID=America/New_York:20241010T160000
DTEND;TZID=America/New_York:20241010T230000
DTSTAMP:20260423T143734
CREATED:20240919T115346Z
LAST-MODIFIED:20240919T115346Z
UID:648-1728576000-1728601200@fatcatfundraisers.com
SUMMARY:Tarentum Fall Market
DESCRIPTION:We represent with a six-sandwich menu of Shrimp Po’boys\, Cheesesteaks\, Italian\, Ham & Cheese\, Braised Turkey Breast and Cold Provolone Cheese Subs. We also sell gourmet “Dirty’s” potato chips.And new this Year our very own WEDDING SOUP !! Add to calendar
URL:https://fatcatfundraisers.com/event/tarentum-fall-market/
CATEGORIES:Orange Tent Events
END:VEVENT
BEGIN:VEVENT
DTSTART;TZID=America/New_York:20240927T160000
DTEND;TZID=America/New_York:20240927T210000
DTSTAMP:20260423T143734
CREATED:20240127T131703Z
LAST-MODIFIED:20240127T131703Z
UID:511-1727452800-1727470800@fatcatfundraisers.com
SUMMARY:Fridays on Fifth
DESCRIPTION:Our hometown of New Kensington’s very popular event. \nFat Cat’s Orange Tent Events is proud to represent with a six-sandwich menu of Shrimp Po’boys\, Cheesesteaks\, Italian\, Ham & Cheese\, Braised Turkey Breast and Cold Provolone Cheese Subs. We also sell gourmet “Dirty’s” potato chips.And new this Year our very own WEDDING SOUP !!
URL:https://fatcatfundraisers.com/event/fridays-on-fifth-13/
LOCATION:Downtown New Kensington\, New Kensington\, PA\, 15068\, United States
CATEGORIES:Orange Tent Events
END:VEVENT
BEGIN:VEVENT
DTSTART;TZID=America/New_York:20240921T110000
DTEND;TZID=America/New_York:20240921T153000
DTSTAMP:20260423T143734
CREATED:20240811T103450Z
LAST-MODIFIED:20240811T103922Z
UID:637-1726916400-1726932600@fatcatfundraisers.com
SUMMARY:New Kensington YMCA Fundraiser
DESCRIPTION:We represent with a six-sandwich menu of Shrimp Po’boys\, Cheesesteaks\, Italian\, Ham & Cheese\, Braised Turkey Breast and Cold Provolone Cheese Subs. We also sell gourmet “Dirty’s” potato chips.And new this Year our very own WEDDING SOUP !! \n Add to calendar
URL:https://fatcatfundraisers.com/event/new-kensington-ymca-fundraiser/
LOCATION:Downtown New Kensington\, New Kensington\, PA\, 15068\, United States
CATEGORIES:Orange Tent Events
END:VEVENT
BEGIN:VEVENT
DTSTART;TZID=America/New_York:20240920T170000
DTEND;TZID=America/New_York:20240920T210000
DTSTAMP:20260423T143734
CREATED:20240328T123122Z
LAST-MODIFIED:20240328T123122Z
UID:614-1726851600-1726866000@fatcatfundraisers.com
SUMMARY:Oakmont Night Market
DESCRIPTION:Fat Cat’s Orange Tent Events is proud to represent with a six-sandwich menu of Shrimp Po’boys\, Cheesesteaks\, Italian\, Ham & Cheese\, Braised Turkey Breast and Cold Provolone Cheese Subs. We also sell gourmet “Dirty’s” potato chips.And new this Year our very own WEDDING SOUP !!
URL:https://fatcatfundraisers.com/event/oakmont-night-market-4/
LOCATION:Oakmont\, Pa
CATEGORIES:Orange Tent Events
END:VEVENT
BEGIN:VEVENT
DTSTART;TZID=America/New_York:20240908T100000
DTEND;TZID=America/New_York:20240908T180000
DTSTAMP:20260423T143734
CREATED:20240127T135000Z
LAST-MODIFIED:20240127T135000Z
UID:522-1725789600-1725818400@fatcatfundraisers.com
SUMMARY:Sprankle's Octoberfest
DESCRIPTION:We are very proud to be a NEW FOOD VENDOR at the BEST OCTOBERFEST in Western Pennsylvania !!  \nFat Cat’s Orange Tent Events is proud to represent with a six-sandwich menu of Shrimp Po’boys\, Cheesesteaks\, Italian\, Ham & Cheese\, Braised Turkey Breast and Cold Provolone Cheese Subs. We also sell gourmet “Dirty’s” potato chips.And new this Year our very own WEDDING SOUP !!
URL:https://fatcatfundraisers.com/event/sprankles-octoberfest-3/
LOCATION:Sprankle Woods Sarver
CATEGORIES:Orange Tent Events
END:VEVENT
BEGIN:VEVENT
DTSTART;TZID=America/New_York:20240907T100000
DTEND;TZID=America/New_York:20240907T220000
DTSTAMP:20260423T143734
CREATED:20240127T134759Z
LAST-MODIFIED:20240127T134759Z
UID:520-1725703200-1725746400@fatcatfundraisers.com
SUMMARY:Sprankles Octoberfest
DESCRIPTION:We are very proud to be a NEW FOOD VENDOR at the BEST OCTOBERFEST in Western Pennsylvania !!  \nFat Cat’s Orange Tent Events is proud to represent with a six-sandwich menu of Shrimp Po’boys\, Cheesesteaks\, Italian\, Ham & Cheese\, Braised Turkey Breast and Cold Provolone Cheese Subs. We also sell gourmet “Dirty’s” potato chips.And new this Year our very own WEDDING SOUP !!
URL:https://fatcatfundraisers.com/event/sprankles-octoberfest-2/
LOCATION:Sprankle Woods Sarver
CATEGORIES:Orange Tent Events
END:VEVENT
BEGIN:VEVENT
DTSTART;TZID=America/New_York:20240906T160000
DTEND;TZID=America/New_York:20240906T210000
DTSTAMP:20260423T143734
CREATED:20240127T134620Z
LAST-MODIFIED:20240127T134620Z
UID:517-1725638400-1725656400@fatcatfundraisers.com
SUMMARY:Sprankle's Octoberfest
DESCRIPTION:We are very proud to be a NEW FOOD VENDOR at the BEST OCTOBERFEST in Western Pennsylvania !!  \nFat Cat’s Orange Tent Events is proud to represent with a six-sandwich menu of Shrimp Po’boys\, Cheesesteaks\, Italian\, Ham & Cheese\, Braised Turkey Breast and Cold Provolone Cheese Subs. We also sell gourmet “Dirty’s” potato chips.And new this Year our very own WEDDING SOUP !!
URL:https://fatcatfundraisers.com/event/sprankles-octoberfest/
LOCATION:Sprankle Woods Sarver
CATEGORIES:Orange Tent Events
END:VEVENT
BEGIN:VEVENT
DTSTART;TZID=America/New_York:20240831T160000
DTEND;TZID=America/New_York:20240831T213000
DTSTAMP:20260423T143734
CREATED:20240213T022048Z
LAST-MODIFIED:20240829T161011Z
UID:544-1725120000-1725139800@fatcatfundraisers.com
SUMMARY:Kiski Campground Labor Day Party
DESCRIPTION:Celebrating Labor Day Weekend at this PRIVATE EVENT ! Fat Cat’s Orange Tent Events is proud to represent with a six-sandwich menu of Shrimp Po’boys\, Cheesesteaks\, Italian\, Ham & Cheese\, Braised Turkey Breast and Cold Provolone Cheese Subs. We also sell gourmet “Dirty’s” potato chips.And new this Year our very own WEDDING SOUP !!
URL:https://fatcatfundraisers.com/event/kiski-campground-labor-day-party/
CATEGORIES:Orange Tent Events
END:VEVENT
BEGIN:VEVENT
DTSTART;TZID=America/New_York:20240824T170000
DTEND;TZID=America/New_York:20240824T210000
DTSTAMP:20260423T143734
CREATED:20240531T120136Z
LAST-MODIFIED:20240531T122644Z
UID:627-1724518800-1724533200@fatcatfundraisers.com
SUMMARY:Home Brew Festival
DESCRIPTION:Fat Cat’s Orange Tent Events is proud to represent with a six-sandwich menu of Shrimp Po’boys\, Cheesesteaks\, Italian\, Ham & Cheese\, Braised Turkey Breast and Cold Provolone Cheese Subs. We also sell gourmet “Dirty’s” potato chips.And new this Year our very own WEDDING SOUP !!
URL:https://fatcatfundraisers.com/event/home-brew-festival/
LOCATION:Syria Mosque Harmar
CATEGORIES:Orange Tent Events
END:VEVENT
BEGIN:VEVENT
DTSTART;TZID=America/New_York:20240823T160000
DTEND;TZID=America/New_York:20240823T210000
DTSTAMP:20260423T143734
CREATED:20240127T131457Z
LAST-MODIFIED:20240127T131457Z
UID:509-1724428800-1724446800@fatcatfundraisers.com
SUMMARY:Fridays on Fifth
DESCRIPTION:Our hometown of New Kensington’s very popular event. \nFat Cat’s Orange Tent Events is proud to represent with a six-sandwich menu of Shrimp Po’boys\, Cheesesteaks\, Italian\, Ham & Cheese\, Braised Turkey Breast and Cold Provolone Cheese Subs. We also sell gourmet “Dirty’s” potato chips.And new this Year our very own WEDDING SOUP !!
URL:https://fatcatfundraisers.com/event/fridays-on-fifth-12/
LOCATION:Downtown New Kensington\, New Kensington\, PA\, 15068\, United States
CATEGORIES:Orange Tent Events
END:VEVENT
BEGIN:VEVENT
DTSTART;TZID=America/New_York:20240817T120000
DTEND;TZID=America/New_York:20240817T200000
DTSTAMP:20260423T143734
CREATED:20240129T142220Z
LAST-MODIFIED:20240129T142507Z
UID:529-1723896000-1723924800@fatcatfundraisers.com
SUMMARY:East Deer Summer Celebration
DESCRIPTION:East Deer Summer Celebration is one of Fat Cat’s favorites !!! Come join us for tons of stuff to do and LIVE MUSIC !! \nWe are proud to represent with a six-sandwich menu of Shrimp Po’boys\, Cheesesteaks\, Italian\, Ham & Cheese\, Braised Turkey Breast and Cold Provolone Cheese Subs. We also sell gourmet “Dirty’s” potato chips.And new this Year our very own WEDDING SOUP !!
URL:https://fatcatfundraisers.com/event/east-deer-summer-celebration/
LOCATION:East Deer Park
CATEGORIES:Orange Tent Events
END:VEVENT
BEGIN:VEVENT
DTSTART;TZID=America/New_York:20240809T110000
DTEND;TZID=America/New_York:20240809T160000
DTSTAMP:20260423T143734
CREATED:20240213T025136Z
LAST-MODIFIED:20240213T025136Z
UID:557-1723201200-1723219200@fatcatfundraisers.com
SUMMARY:Stanford's Leechburg Foodie Friday
DESCRIPTION:Fat Cat’s Orange Tent Events is proud to represent with a six-sandwich menu of Shrimp Po’boys\, Cheesesteaks\, Italian\, Ham & Cheese\, Braised Turkey Breast and Cold Provolone Cheese Subs. We also sell gourmet “Dirty’s” potato chips.And new this Year our very own WEDDING SOUP !!
URL:https://fatcatfundraisers.com/event/stanfords-leechburg-foodie-friday-4/
LOCATION:Stanford Home Center Leechburg
CATEGORIES:Orange Tent Events
END:VEVENT
BEGIN:VEVENT
DTSTART;TZID=America/New_York:20240808T170000
DTEND;TZID=America/New_York:20240808T210000
DTSTAMP:20260423T143734
CREATED:20240304T052455Z
LAST-MODIFIED:20240304T052455Z
UID:601-1723136400-1723150800@fatcatfundraisers.com
SUMMARY:Tarentum Night Market
DESCRIPTION:Fat Cat’s Orange Tent Events is proud to represent with a six-sandwich menu of Shrimp Po’boys\, Cheesesteaks\, Italian\, Ham & Cheese\, Braised Turkey Breast and Cold Provolone Cheese Subs. We also sell gourmet “Dirty’s” potato chips.And new this Year our very own WEDDING SOUP !!
URL:https://fatcatfundraisers.com/event/tarentum-night-market-6/
LOCATION:Downton Tarentum\, PA\, United States
CATEGORIES:Orange Tent Events
END:VEVENT
BEGIN:VEVENT
DTSTART;TZID=America/New_York:20240728T100000
DTEND;TZID=America/New_York:20240728T200000
DTSTAMP:20260423T143734
CREATED:20240129T111804Z
LAST-MODIFIED:20240129T112207Z
UID:525-1722160800-1722196800@fatcatfundraisers.com
SUMMARY:Vandergrift Arts Festival
DESCRIPTION:On of the AK Valleys BIGGEST DRAWS (no pun intended) of the Summer ! \nFat Cat’s Orange Tent Events is proud to represent with a six-sandwich menu of Shrimp Po’boys\, Cheesesteaks\, Italian\, Ham & Cheese\, Braised Turkey Breast and Cold Provolone Cheese Subs. We also sell gourmet “Dirty’s” potato chips.And new this Year our very own WEDDING SOUP !!
URL:https://fatcatfundraisers.com/event/vandergrift-arts-festival-2/
LOCATION:Downtown Vandergrift\, Grant Street\, Vandergrift\, PA\, 15690\, United States
CATEGORIES:Orange Tent Events
END:VEVENT
BEGIN:VEVENT
DTSTART;TZID=America/New_York:20240727T000000
DTEND;TZID=America/New_York:20240727T000000
DTSTAMP:20260423T143734
CREATED:20240129T191236Z
LAST-MODIFIED:20240129T191236Z
UID:535-1722038400-1722038400@fatcatfundraisers.com
SUMMARY:Oakmont Street Sale
DESCRIPTION:We represent with a six-sandwich menu of Shrimp Po’boys\, Cheesesteaks\, Italian\, Ham & Cheese\, Braised Turkey Breast and Cold Provolone Cheese Subs. We also sell gourmet “Dirty’s” potato chips.And new this Year our very own WEDDING SOUP !!
URL:https://fatcatfundraisers.com/event/oakmont-street-sale/
LOCATION:Oakmont\, Pa
CATEGORIES:Orange Tent Events
END:VEVENT
BEGIN:VEVENT
DTSTART;TZID=America/New_York:20240726T160000
DTEND;TZID=America/New_York:20240726T210000
DTSTAMP:20260423T143734
CREATED:20240127T131231Z
LAST-MODIFIED:20240127T131231Z
UID:507-1722009600-1722027600@fatcatfundraisers.com
SUMMARY:Fridays on Fifth
DESCRIPTION:Our hometown of New Kensington’s very popular event. \nFat Cat’s Orange Tent Events is proud to represent with a six-sandwich menu of Shrimp Po’boys\, Cheesesteaks\, Italian\, Ham & Cheese\, Braised Turkey Breast and Cold Provolone Cheese Subs. We also sell gourmet “Dirty’s” potato chips.And new this Year our very own WEDDING SOUP !!
URL:https://fatcatfundraisers.com/event/fridays-on-fifth-11/
LOCATION:Downtown New Kensington\, New Kensington\, PA\, 15068\, United States
CATEGORIES:Orange Tent Events
END:VEVENT
END:VCALENDAR